BEGIN:VCALENDAR
VERSION:2.0
PRODID:-//ChamberMaster//Event Calendar 2.0//EN
METHOD:PUBLISH
X-PUBLISHED-TTL:P3D
REFRESH-INTERVAL:P3D
CALSCALE:GREGORIAN
BEGIN:VEVENT
DTSTART:20200222T003000Z
DTEND:20200222T020000Z
X-MICROSOFT-CDO-ALLDAYEVENT:FALSE
SUMMARY:Taylor University Faculty Recital
DESCRIPTION:Romance Without Words: An Evening of Romantic Instrumental Music"\n\nFaculty Recital: Dr. Chris Bade\, clarinet\, and Dr. Leon Harshenin\, piano\n\nButz Carruth Recital Hall | Smith-Hermanson Music Center | Taylor University\n\n(see poster)\n\n\nWhat makes instrumental music sound and feel romantic? How does music without text convey the angst\, yearning\, and rapture of romantic love? On Feb. 21 at 7:30 PM\, these questions will be explored in a recital presented by Dr. Chris Bade\, clarinet\, and Dr. Leon Harshenin\, piano. "Romance Without Words: An Evening of Romantic Instrumental Music" will feature music by Liszt\, Schumann\, Finzi\, and Rossini.
X-ALT-DESC;FMTTYPE=text/html:<div style="text-align: center\;"><span style="font-size:14px\;"><span style="font-family:tahoma\;">Romance Without Words: An Evening of Romantic Instrumental Music&rdquo\;<br />\nFaculty Recital: <strong><em>Dr. Chris Bade\, clarinet\, and Dr. Leon Harshenin\, piano</em></strong><br />\nButz Carruth Recital Hall | Smith-Hermanson Music Center | Taylor University<br />\n(<a href="https://chambermaster.blob.core.windows.net/userfiles/UserFiles/chambers/1400/File/harshenin.bade.recitalposter.2.jpg">see poster</a>)</span></span></div>\n<br />\n<span style="font-size:14px\;"><span style="font-family:tahoma\;">What makes instrumental music sound and feel romantic? How does music without text convey the angst\, yearning\, and rapture of romantic love? On Feb. 21 at 7:30 PM\, these questions will be explored in a recital presented by Dr. Chris Bade\, clarinet\, and Dr. Leon Harshenin\, piano. &ldquo\;Romance Without Words: An Evening of Romantic Instrumental Music&rdquo\; will feature music by Liszt\, Schumann\, Finzi\, and Rossini.&nbsp\;</span></span>
LOCATION:
UID:e.1400.3788
SEQUENCE:3
DTSTAMP:20260424T221613Z
URL:https://mariongrantcountygzcms.preview.gochambermaster.com/events/details/taylor-university-faculty-recital-3788
END:VEVENT

END:VCALENDAR
