BEGIN:VCALENDAR
VERSION:2.0
PRODID:-//ChamberMaster//Event Calendar 2.0//EN
METHOD:PUBLISH
X-PUBLISHED-TTL:P3D
REFRESH-INTERVAL:P3D
CALSCALE:GREGORIAN
BEGIN:VEVENT
DTSTART:20220921T160000Z
DTEND:20220921T170000Z
X-MICROSOFT-CDO-ALLDAYEVENT:FALSE
SUMMARY:Managing Your Emotional Bank Account
DESCRIPTION:Our emotional energy\, like our money\, is limited. Every day we make deposits into other people's emotional bank account\, while others are making deposits and withdraws in our own. Join us for this session as we explore how to maintain a healthy account\, for healthier relationships!\n\n\n\nDuring This Session We Will\n\n	Gain awareness of how deposits build and repair trust in a relationship while withdrawals lessen trust in relationships\n	Define an emotional withdrawal and deposit and what it takes to build up your account as well as the account of others\n	Understand that every interaction with another human being may be classified as a deposit or withdrawal
X-ALT-DESC;FMTTYPE=text/html:<span style="color:#221F1F\;"><span style="font-size:10.0pt\;">Our emotional energy\, like our money\, is limited. Every day we make deposits into other people&rsquo\;s emotional bank account\, while others are making deposits and withdraws in our own. Join us for this session as we explore how to maintain a healthy account\, for healthier relationships!</span></span><br />\n<br />\n<strong><em><span style="color:#221F1F\;"><span style="font-size:10.0pt\;">During This Session We Will</span></span></em></strong>\n<ul>\n	<li style="margin-top:9.45pt\;margin-right:9.5pt\;margin-bottom:0in\;margin-bottom:.0001pt\;"><span style="color:#221F1F\;"><span style="font-size:10.0pt\;">Gain awareness of how deposits build and repair trust in a relationship while withdrawals lessen trust in relationships</span></span></li>\n	<li style="margin-top:9.45pt\;margin-right:9.5pt\;margin-bottom:0in\;margin-bottom:.0001pt\;"><span style="color:#221F1F\;"><span style="font-size:10.0pt\;">Define an emotional withdrawal and deposit and what it takes to build up your account as well as the account of others</span></span></li>\n	<li style="margin-top:9.45pt\;margin-right:9.5pt\;margin-bottom:0in\;margin-bottom:.0001pt\;"><span style="color:#221F1F\;"><span style="font-size:10.0pt\;">Understand that every interaction with another human being <span style="letter-spacing:.1pt\;">may </span>be classified as a deposit or withdrawal</span></span></li>\n</ul>\n
LOCATION:Chamber Conference Room - 215 S Adams St / Marion
UID:e.1400.3901
SEQUENCE:3
DTSTAMP:20260420T033920Z
URL:https://mariongrantcountygzcms.preview.gochambermaster.com/events/details/managing-your-emotional-bank-account-3901
END:VEVENT

END:VCALENDAR
