BEGIN:VCALENDAR
VERSION:2.0
PRODID:-//ChamberMaster//Event Calendar 2.0//EN
METHOD:PUBLISH
X-PUBLISHED-TTL:P3D
REFRESH-INTERVAL:P3D
CALSCALE:GREGORIAN
BEGIN:VEVENT
DTSTART:20220825T190000Z
DTEND:20220825T210000Z
X-MICROSOFT-CDO-ALLDAYEVENT:FALSE
SUMMARY:Grant Blackford Mental Health Community Support Program Grand Opening and Ribbon Cutting
DESCRIPTION:Grand Opening Celebration for Community Support Programs (CSP)
X-ALT-DESC;FMTTYPE=text/html:<span style="font-family:arial\;"><span style="font-size:16px\;">Grand Opening Celebration for Community Support Programs (CSP)</span></span>
LOCATION:3010 South Adams Street Marion 46953
UID:e.1400.3906
SEQUENCE:3
DTSTAMP:20260420T070324Z
URL:https://mariongrantcountygzcms.preview.gochambermaster.com/events/details/grant-blackford-mental-health-community-support-program-grand-opening-and-ribbon-cutting-3906
END:VEVENT

END:VCALENDAR
