BEGIN:VCALENDAR
VERSION:2.0
PRODID:-//ChamberMaster//Event Calendar 2.0//EN
METHOD:PUBLISH
X-PUBLISHED-TTL:P3D
REFRESH-INTERVAL:P3D
CALSCALE:GREGORIAN
BEGIN:VEVENT
DTSTART:20200124T223000Z
DTEND:20200125T000000Z
X-MICROSOFT-CDO-ALLDAYEVENT:FALSE
SUMMARY:Fusion Arts Alliance Launch Party & Ribbon Cutting @ The Garden House at Matter Park
DESCRIPTION:Fusion Arts Alliance Launch Party (view here)
X-ALT-DESC;FMTTYPE=text/html:<span style="font-size:14px\;"><span style="font-family:tahoma\;">Fusion Arts Alliance Launch Party (<a href="https://chambermaster.blob.core.windows.net/userfiles/UserFiles/chambers/1400/File/fusionlaunchparty.png"><em>view here</em></a>)</span></span>
LOCATION:
UID:e.1400.3777
SEQUENCE:3
DTSTAMP:20260425T005218Z
URL:https://mariongrantcountygzcms.preview.gochambermaster.com/events/details/fusion-arts-alliance-launch-party-ribbon-cutting-the-garden-house-at-matter-park-3777
END:VEVENT

END:VCALENDAR
