BEGIN:VCALENDAR
VERSION:2.0
PRODID:-//ChamberMaster//Event Calendar 2.0//EN
METHOD:PUBLISH
X-PUBLISHED-TTL:P3D
REFRESH-INTERVAL:P3D
CALSCALE:GREGORIAN
BEGIN:VEVENT
DTSTART:20220819T210000Z
DTEND:20220819T220000Z
X-MICROSOFT-CDO-ALLDAYEVENT:FALSE
SUMMARY:Calm Corner Ribbon Cutting
DESCRIPTION:Child Wellness Fair Friday & Saturday\n\n\n\nWellness vendors\, crafts\, games and family fun!  Great chance to learn about the different services available in Marion for children and families!
X-ALT-DESC;FMTTYPE=text/html:<span style="font-size:16px\;"><span style="font-family:arial\;">Child Wellness Fair Friday &amp\; Saturday<br />\n<br />\nWellness vendors\, crafts\, games and family fun!&nbsp\; Great chance to learn about the different services available in Marion for children and families!</span></span>
LOCATION:428 South Washington Street Suit 261 Marion 46953
UID:e.1400.3905
SEQUENCE:3
DTSTAMP:20260420T084243Z
URL:https://mariongrantcountygzcms.preview.gochambermaster.com/events/details/calm-corner-ribbon-cutting-3905
END:VEVENT

END:VCALENDAR
