BEGIN:VCALENDAR
VERSION:2.0
PRODID:-//ChamberMaster//Event Calendar 2.0//EN
METHOD:PUBLISH
X-PUBLISHED-TTL:P3D
REFRESH-INTERVAL:P3D
CALSCALE:GREGORIAN
BEGIN:VEVENT
DTSTART:20191112T210000Z
DTEND:20191112T230000Z
X-MICROSOFT-CDO-ALLDAYEVENT:FALSE
SUMMARY:Business After Hours @ Family Service Society located at 101 South Washington Street
DESCRIPTION:Business After Hours @ Family Service Society Inc. (see png)
X-ALT-DESC;FMTTYPE=text/html:<font face="tahoma"><span style="font-size: 14px\;">Business After Hours @ Family Service Society Inc. (<a href="https://chambermaster.blob.core.windows.net/userfiles/UserFiles/chambers/1400/File/BAH100year.png">see png</a>)</span></font>
LOCATION:101 South Washington Street Marion IN 46952
UID:e.1400.3707
SEQUENCE:3
DTSTAMP:20260425T033159Z
URL:https://mariongrantcountygzcms.preview.gochambermaster.com/events/details/business-after-hours-family-service-society-located-at-101-south-washington-street-3707
END:VEVENT

END:VCALENDAR
